BEGIN:VCALENDAR
VERSION:2.0
PRODID:-//Mordsregion - Die Wäller Rumkugeln e.V. - ECPv6.15.20//NONSGML v1.0//EN
CALSCALE:GREGORIAN
METHOD:PUBLISH
X-ORIGINAL-URL:https://mordsregion.de
X-WR-CALDESC:Veranstaltungen für Mordsregion - Die Wäller Rumkugeln e.V.
REFRESH-INTERVAL;VALUE=DURATION:PT1H
X-Robots-Tag:noindex
X-PUBLISHED-TTL:PT1H
BEGIN:VTIMEZONE
TZID:Europe/Berlin
BEGIN:DAYLIGHT
TZOFFSETFROM:+0100
TZOFFSETTO:+0200
TZNAME:CEST
DTSTART:20250330T010000
END:DAYLIGHT
BEGIN:STANDARD
TZOFFSETFROM:+0200
TZOFFSETTO:+0100
TZNAME:CET
DTSTART:20251026T010000
END:STANDARD
BEGIN:DAYLIGHT
TZOFFSETFROM:+0100
TZOFFSETTO:+0200
TZNAME:CEST
DTSTART:20260329T010000
END:DAYLIGHT
BEGIN:STANDARD
TZOFFSETFROM:+0200
TZOFFSETTO:+0100
TZNAME:CET
DTSTART:20261025T010000
END:STANDARD
BEGIN:DAYLIGHT
TZOFFSETFROM:+0100
TZOFFSETTO:+0200
TZNAME:CEST
DTSTART:20270328T010000
END:DAYLIGHT
BEGIN:STANDARD
TZOFFSETFROM:+0200
TZOFFSETTO:+0100
TZNAME:CET
DTSTART:20271031T010000
END:STANDARD
END:VTIMEZONE
BEGIN:VEVENT
DTSTART;TZID=Europe/Berlin:20260325T193000
DTEND;TZID=Europe/Berlin:20260325T210000
DTSTAMP:20260425T175705
CREATED:20260110T150018Z
LAST-MODIFIED:20260125T133338Z
UID:908-1774467000-1774472400@mordsregion.de
SUMMARY:Micha Krämer: Making of / Diavortrag & Lesung Im Schatten Der Camorra im Zirkuszelt Alsdorf
DESCRIPTION:Micha Krämer spricht über die Recherche in Neapel \nWann: 25. März 2026\, 19:30 Uhr\, Einlass ab 19:00 Uhr\nWo: im Zirkuszelt\, Am Sportplatz Alsdorf in der Austraße \n„Sag mal Micha\, wie gründlich recherchierst du eigentlich für deine Krimis?“ Diese Frage wird Micha Krämer bei seinen zahlreichen Lesungen immer wieder gestellt. Für die Recherche zum aktuellen Nina Moretti Krimi war er dieses mal zwei Wochen vor Ort in Neapel. Neben unzähligen Eindrücken sind dabei auch fast an die 1000 Fotos entstanden. Bei dieser etwas anderen Multimedialen Krimitour mit Lesung wird Micha einige davon präsentieren und über die Hintergründe zur Entstehung des Buches erzählen. Ein Muss für Fans die es immer schon einmal ganz genau wissen und mehr über die Heimat von Nina Morettis Familie erfahren möchten.
URL:https://mordsregion.de/event/micha-kraemer-making-of-diavortrag-lesung-im-schatten-der-camorra-im-zirkuszelt-alsdorf/
ATTACH;FMTTYPE=image/jpeg:https://mordsregion.de/wp-content/uploads/2026/01/Plakat-Diashow-Camorra-2026.jpg
ORGANIZER;CN="Die W%C3%A4ller Rumkugeln e.V.":MAILTO:info@mordsregion.de
END:VEVENT
BEGIN:VEVENT
DTSTART;TZID=Europe/Berlin:20260315T160000
DTEND;TZID=Europe/Berlin:20260315T190000
DTSTAMP:20260425T175705
CREATED:20260105T143508Z
LAST-MODIFIED:20260125T133700Z
UID:914-1773590400-1773601200@mordsregion.de
SUMMARY:Konzert mit Micha Krämer\, Lorena Schmidt & den Gebrüdern Poweronoffs
DESCRIPTION:Wann: 15. März 2025\, Beginn um 16:00 Uhr Einlass ab 15:00 Uhr\nWo: Beerdigungsinstitut Himmrich\, Industriestraße 9\, 57518 Alsdorf\n\n\nHier nun der Zusatztermin für alle die für das fulimanent Konzert am 25.10.2025 keine Tickets mehr bekommen haben.\nMicha\, Lorena und die Gebrüder Poweronoff spielen ein Zusatzkonzert in Hennings Oldiegarage.\n\nSonntags Nachmittags mit Kaffee und Kuchen!Es gibt wie beim letzten Mal nur wenige Karten – also schnell einen Platz sichern und dabei sein! \nTickets:\nhttps://shop.micha-kraemer.de/Eintrittskarte-Konzert-mit-Lorena-Schmidt-Micha-Kraemer-und-den-Gebruedern-Poweronoffs-15.-Maerz-2026/SW10039 \n 
URL:https://mordsregion.de/event/konzert-mit-micha-kraemer-lorena-schmidt-den-gebruedern-poweronoffs/
ATTACH;FMTTYPE=image/jpeg:https://mordsregion.de/wp-content/uploads/2026/01/DWK-Micha-Konzert-maerz2026-web.jpg
END:VEVENT
BEGIN:VEVENT
DTSTART;TZID=Europe/Berlin:20260131T190000
DTEND;TZID=Europe/Berlin:20260131T210000
DTSTAMP:20260425T175705
CREATED:20260104T141218Z
LAST-MODIFIED:20260125T133645Z
UID:910-1769886000-1769893200@mordsregion.de
SUMMARY:Konzert Souls Of Sorrow 31.01.26
DESCRIPTION:Am 31.01. spielen Souls Of Sorrow aus ihrem brand neuen Album „KING IN THE PAST“ in der Bürgerstube Grünebach. \nEintrittskarten erhältlich bei:\nBürgerstube Grünebach\, Buchhandlung Mankelmuth Betzdorf & auf der Webseite der Band https://soulsofsorrow.de/live-events/ \nUnd selbstverständlich wird es eine Abendkasse geben! \nVvk.: 12\,- €\nAk.: 15\,- €
URL:https://mordsregion.de/event/konzert-souls-of-sorrow-31-01-26/
ATTACH;FMTTYPE=image/jpeg:https://mordsregion.de/wp-content/uploads/2025/11/DWK-Souls-of-Sorrow-2026-Plakate-scaled.jpg
END:VEVENT
END:VCALENDAR